BEGIN:VCALENDAR
VERSION:2.0
PRODID:-//WorkSource Rogue Valley - Support for Job Seekers, Employers, Youth and Childcare - ECPv6.15.20//NONSGML v1.0//EN
CALSCALE:GREGORIAN
METHOD:PUBLISH
X-ORIGINAL-URL:https://worksourcerogue.org
X-WR-CALDESC:Events for WorkSource Rogue Valley - Support for Job Seekers, Employers, Youth and Childcare
REFRESH-INTERVAL;VALUE=DURATION:PT1H
X-Robots-Tag:noindex
X-PUBLISHED-TTL:PT1H
BEGIN:VTIMEZONE
TZID:UTC
BEGIN:STANDARD
TZOFFSETFROM:+0000
TZOFFSETTO:+0000
TZNAME:UTC
DTSTART:20240101T000000
END:STANDARD
END:VTIMEZONE
BEGIN:VEVENT
DTSTART;TZID=UTC:20251009T140000
DTEND;TZID=UTC:20251009T153000
DTSTAMP:20260422T230546
CREATED:20241119T225006Z
LAST-MODIFIED:20241121T184546Z
UID:39640-1760018400-1760023800@worksourcerogue.org
SUMMARY:Computer Basics Lab in Grants Pass
DESCRIPTION:Josephine Community Library is hosting a Computer Basics Lab \nDrop in twice a month to boost your computer skills. Practice using the Internet\, learn how to copy/paste\, try uploading and downloading\, and more. \nThis free\, hands-on program is open to all — no library card or WorkSource Rogue Valley enrollment needed. \n  \nClasses are from 2-3:30pm every other Thursday in the computer lab at WorkSource Rogue Valley. \n1569 NE F ST. Grants Pass\, Oregon. \nJosephinelibrary.org \nInfo@JosephineLibrary.org \n541-476-0571 \n  \nThese are the upcoming focuses for each type of training. Come to the Lab for the type of training you are seeking. \nJanuary 2nd – Google Suite \nJanuary 16th – Intro to Computers\, Keyboard and Mouse \nJanuary 30th – Windows 11\, Files and Folders \nFebruary 13th – Using Internet and Internet Safety \nFebruary 27th – Email Setup and Use \nMarch 13th – Microsoft Word/Excel \nMarch 27th – Google Suite \nApril 10th – Intro to Computers\, Keyboard and Mouse \nApril 24th – Windows 11\, Files and Folders \nMay 8th – Using Internet and Internet Safety \nMay 22nd – Email Setup and Use \nJune 5th – Microsoft Word/Excel \n 
URL:https://worksourcerogue.org/event/computer-basics-lab-2025-10-09/
LOCATION:OR
END:VEVENT
END:VCALENDAR