BEGIN:VCALENDAR
VERSION:2.0
PRODID:-//WorkSource Rogue Valley - Support for Job Seekers, Employers, Youth and Childcare - ECPv6.15.20//NONSGML v1.0//EN
CALSCALE:GREGORIAN
METHOD:PUBLISH
X-WR-CALNAME:WorkSource Rogue Valley - Support for Job Seekers, Employers, Youth and Childcare
X-ORIGINAL-URL:https://worksourcerogue.org
X-WR-CALDESC:Events for WorkSource Rogue Valley - Support for Job Seekers, Employers, Youth and Childcare
REFRESH-INTERVAL;VALUE=DURATION:PT1H
X-Robots-Tag:noindex
X-PUBLISHED-TTL:PT1H
BEGIN:VTIMEZONE
TZID:UTC
BEGIN:STANDARD
TZOFFSETFROM:+0000
TZOFFSETTO:+0000
TZNAME:UTC
DTSTART:20240101T000000
END:STANDARD
END:VTIMEZONE
BEGIN:VEVENT
DTSTART;TZID=UTC:20250307T090000
DTEND;TZID=UTC:20250307T103000
DTSTAMP:20260425T141745
CREATED:20230328T220336Z
LAST-MODIFIED:20241127T235339Z
UID:38131-1741338000-1741343400@worksourcerogue.org
SUMMARY:Basic Computer Class (In Person) Medford
DESCRIPTION:An introduction to computer basics including Microsoft Windows\, the Internet for Job Search\, managing files\, and iMatchskills Registration help.  For more information call 541-734-7533 or click the “Happy to help” button below.
URL:https://worksourcerogue.org/event/basic-computer-class-josephine-county-2025-03-07/
LOCATION:WorkSource Rogue Valley\, 119 N. Oakdale Ave.\, Medford\, OR 97501\, 119 North Oakdale\, Medford\, OR\, 97501\, United States
CATEGORIES:Computer Class
END:VEVENT
BEGIN:VEVENT
DTSTART;TZID=UTC:20250312T093000
DTEND;TZID=UTC:20250312T110000
DTSTAMP:20260425T141745
CREATED:20231002T205832Z
LAST-MODIFIED:20241122T200642Z
UID:38145-1741771800-1741777200@worksourcerogue.org
SUMMARY:Taller de Computación Básica en Español (En persona) Medford
DESCRIPTION:Un tema diferente se ofrece cada viernes: – Clase básica: Introducción a la computación básica – Clase básica: Registro de iMatchSkills – Clase básica: Introducción a la búsqueda de empleo en internet – Clase básica: Como realizar su reclamo semanal para el desempleo *Recomendación antes de asistir: Complete el registro básico en iMatchSkills y la conversación de bienvenida con uno de los miembros de nuestro equipo.
URL:https://worksourcerogue.org/event/clases-basicas-de-computacion-basic-computer-spanish-2-2025-03-12/
LOCATION:WorkSource Rogue Valley\, 119 N. Oakdale Ave.\, Medford\, OR 97501\, 119 North Oakdale\, Medford\, OR\, 97501\, United States
CATEGORIES:Computer Class,Spanish
END:VEVENT
BEGIN:VEVENT
DTSTART;TZID=UTC:20250314T090000
DTEND;TZID=UTC:20250314T103000
DTSTAMP:20260425T141745
CREATED:20230328T220336Z
LAST-MODIFIED:20241127T235339Z
UID:38157-1741942800-1741948200@worksourcerogue.org
SUMMARY:Basic Computer Class (In Person) Medford
DESCRIPTION:An introduction to computer basics including Microsoft Windows\, the Internet for Job Search\, managing files\, and iMatchskills Registration help.  For more information call 541-734-7533 or click the “Happy to help” button below.
URL:https://worksourcerogue.org/event/basic-computer-class-josephine-county-2025-03-14/
LOCATION:WorkSource Rogue Valley\, 119 N. Oakdale Ave.\, Medford\, OR 97501\, 119 North Oakdale\, Medford\, OR\, 97501\, United States
CATEGORIES:Computer Class
END:VEVENT
BEGIN:VEVENT
DTSTART;TZID=UTC:20250319T093000
DTEND;TZID=UTC:20250319T110000
DTSTAMP:20260425T141745
CREATED:20231002T205832Z
LAST-MODIFIED:20241122T200643Z
UID:38170-1742376600-1742382000@worksourcerogue.org
SUMMARY:Taller de Computación Básica en Español (En persona) Medford
DESCRIPTION:Un tema diferente se ofrece cada viernes: – Clase básica: Introducción a la computación básica – Clase básica: Registro de iMatchSkills – Clase básica: Introducción a la búsqueda de empleo en internet – Clase básica: Como realizar su reclamo semanal para el desempleo *Recomendación antes de asistir: Complete el registro básico en iMatchSkills y la conversación de bienvenida con uno de los miembros de nuestro equipo.
URL:https://worksourcerogue.org/event/clases-basicas-de-computacion-basic-computer-spanish-2-2025-03-19/
LOCATION:WorkSource Rogue Valley\, 119 N. Oakdale Ave.\, Medford\, OR 97501\, 119 North Oakdale\, Medford\, OR\, 97501\, United States
CATEGORIES:Computer Class,Spanish
END:VEVENT
BEGIN:VEVENT
DTSTART;TZID=UTC:20250321T090000
DTEND;TZID=UTC:20250321T103000
DTSTAMP:20260425T141745
CREATED:20230328T220336Z
LAST-MODIFIED:20241127T235340Z
UID:38175-1742547600-1742553000@worksourcerogue.org
SUMMARY:Basic Computer Class (In Person) Medford
DESCRIPTION:An introduction to computer basics including Microsoft Windows\, the Internet for Job Search\, managing files\, and iMatchskills Registration help.  For more information call 541-734-7533 or click the “Happy to help” button below.
URL:https://worksourcerogue.org/event/basic-computer-class-josephine-county-2025-03-21/
LOCATION:WorkSource Rogue Valley\, 119 N. Oakdale Ave.\, Medford\, OR 97501\, 119 North Oakdale\, Medford\, OR\, 97501\, United States
CATEGORIES:Computer Class
END:VEVENT
BEGIN:VEVENT
DTSTART;TZID=UTC:20250326T093000
DTEND;TZID=UTC:20250326T110000
DTSTAMP:20260425T141745
CREATED:20231002T205832Z
LAST-MODIFIED:20241122T200644Z
UID:38184-1742981400-1742986800@worksourcerogue.org
SUMMARY:Taller de Computación Básica en Español (En persona) Medford
DESCRIPTION:Un tema diferente se ofrece cada viernes: – Clase básica: Introducción a la computación básica – Clase básica: Registro de iMatchSkills – Clase básica: Introducción a la búsqueda de empleo en internet – Clase básica: Como realizar su reclamo semanal para el desempleo *Recomendación antes de asistir: Complete el registro básico en iMatchSkills y la conversación de bienvenida con uno de los miembros de nuestro equipo.
URL:https://worksourcerogue.org/event/clases-basicas-de-computacion-basic-computer-spanish-2-2025-03-26/
LOCATION:WorkSource Rogue Valley\, 119 N. Oakdale Ave.\, Medford\, OR 97501\, 119 North Oakdale\, Medford\, OR\, 97501\, United States
CATEGORIES:Computer Class,Spanish
END:VEVENT
BEGIN:VEVENT
DTSTART;TZID=UTC:20250328T090000
DTEND;TZID=UTC:20250328T103000
DTSTAMP:20260425T141745
CREATED:20230328T220336Z
LAST-MODIFIED:20241127T235340Z
UID:38191-1743152400-1743157800@worksourcerogue.org
SUMMARY:Basic Computer Class (In Person) Medford
DESCRIPTION:An introduction to computer basics including Microsoft Windows\, the Internet for Job Search\, managing files\, and iMatchskills Registration help.  For more information call 541-734-7533 or click the “Happy to help” button below.
URL:https://worksourcerogue.org/event/basic-computer-class-josephine-county-2025-03-28/
LOCATION:WorkSource Rogue Valley\, 119 N. Oakdale Ave.\, Medford\, OR 97501\, 119 North Oakdale\, Medford\, OR\, 97501\, United States
CATEGORIES:Computer Class
END:VEVENT
BEGIN:VEVENT
DTSTART;TZID=UTC:20250402T093000
DTEND;TZID=UTC:20250402T110000
DTSTAMP:20260425T141745
CREATED:20231002T205832Z
LAST-MODIFIED:20241122T200645Z
UID:38206-1743586200-1743591600@worksourcerogue.org
SUMMARY:Taller de Computación Básica en Español (En persona) Medford
DESCRIPTION:Un tema diferente se ofrece cada viernes: – Clase básica: Introducción a la computación básica – Clase básica: Registro de iMatchSkills – Clase básica: Introducción a la búsqueda de empleo en internet – Clase básica: Como realizar su reclamo semanal para el desempleo *Recomendación antes de asistir: Complete el registro básico en iMatchSkills y la conversación de bienvenida con uno de los miembros de nuestro equipo.
URL:https://worksourcerogue.org/event/clases-basicas-de-computacion-basic-computer-spanish-2-2025-04-02/
LOCATION:WorkSource Rogue Valley\, 119 N. Oakdale Ave.\, Medford\, OR 97501\, 119 North Oakdale\, Medford\, OR\, 97501\, United States
CATEGORIES:Computer Class,Spanish
END:VEVENT
BEGIN:VEVENT
DTSTART;TZID=UTC:20250404T090000
DTEND;TZID=UTC:20250404T103000
DTSTAMP:20260425T141745
CREATED:20230328T220336Z
LAST-MODIFIED:20241127T235341Z
UID:38211-1743757200-1743762600@worksourcerogue.org
SUMMARY:Basic Computer Class (In Person) Medford
DESCRIPTION:An introduction to computer basics including Microsoft Windows\, the Internet for Job Search\, managing files\, and iMatchskills Registration help.  For more information call 541-734-7533 or click the “Happy to help” button below.
URL:https://worksourcerogue.org/event/basic-computer-class-josephine-county-2025-04-04/
LOCATION:WorkSource Rogue Valley\, 119 N. Oakdale Ave.\, Medford\, OR 97501\, 119 North Oakdale\, Medford\, OR\, 97501\, United States
CATEGORIES:Computer Class
END:VEVENT
BEGIN:VEVENT
DTSTART;TZID=UTC:20250409T093000
DTEND;TZID=UTC:20250409T110000
DTSTAMP:20260425T141745
CREATED:20231002T205832Z
LAST-MODIFIED:20241122T200645Z
UID:38220-1744191000-1744196400@worksourcerogue.org
SUMMARY:Taller de Computación Básica en Español (En persona) Medford
DESCRIPTION:Un tema diferente se ofrece cada viernes: – Clase básica: Introducción a la computación básica – Clase básica: Registro de iMatchSkills – Clase básica: Introducción a la búsqueda de empleo en internet – Clase básica: Como realizar su reclamo semanal para el desempleo *Recomendación antes de asistir: Complete el registro básico en iMatchSkills y la conversación de bienvenida con uno de los miembros de nuestro equipo.
URL:https://worksourcerogue.org/event/clases-basicas-de-computacion-basic-computer-spanish-2-2025-04-09/
LOCATION:WorkSource Rogue Valley\, 119 N. Oakdale Ave.\, Medford\, OR 97501\, 119 North Oakdale\, Medford\, OR\, 97501\, United States
CATEGORIES:Computer Class,Spanish
END:VEVENT
BEGIN:VEVENT
DTSTART;TZID=UTC:20250411T090000
DTEND;TZID=UTC:20250411T103000
DTSTAMP:20260425T141746
CREATED:20230328T220336Z
LAST-MODIFIED:20241127T235346Z
UID:38225-1744362000-1744367400@worksourcerogue.org
SUMMARY:Basic Computer Class (In Person) Medford
DESCRIPTION:An introduction to computer basics including Microsoft Windows\, the Internet for Job Search\, managing files\, and iMatchskills Registration help.  For more information call 541-734-7533 or click the “Happy to help” button below.
URL:https://worksourcerogue.org/event/basic-computer-class-josephine-county-2025-04-11/
LOCATION:WorkSource Rogue Valley\, 119 N. Oakdale Ave.\, Medford\, OR 97501\, 119 North Oakdale\, Medford\, OR\, 97501\, United States
CATEGORIES:Computer Class
END:VEVENT
BEGIN:VEVENT
DTSTART;TZID=UTC:20250416T093000
DTEND;TZID=UTC:20250416T110000
DTSTAMP:20260425T141746
CREATED:20231002T205832Z
LAST-MODIFIED:20241122T200646Z
UID:38242-1744795800-1744801200@worksourcerogue.org
SUMMARY:Taller de Computación Básica en Español (En persona) Medford
DESCRIPTION:Un tema diferente se ofrece cada viernes: – Clase básica: Introducción a la computación básica – Clase básica: Registro de iMatchSkills – Clase básica: Introducción a la búsqueda de empleo en internet – Clase básica: Como realizar su reclamo semanal para el desempleo *Recomendación antes de asistir: Complete el registro básico en iMatchSkills y la conversación de bienvenida con uno de los miembros de nuestro equipo.
URL:https://worksourcerogue.org/event/clases-basicas-de-computacion-basic-computer-spanish-2-2025-04-16/
LOCATION:WorkSource Rogue Valley\, 119 N. Oakdale Ave.\, Medford\, OR 97501\, 119 North Oakdale\, Medford\, OR\, 97501\, United States
CATEGORIES:Computer Class,Spanish
END:VEVENT
BEGIN:VEVENT
DTSTART;TZID=UTC:20250418T090000
DTEND;TZID=UTC:20250418T103000
DTSTAMP:20260425T141746
CREATED:20230328T220336Z
LAST-MODIFIED:20241127T235346Z
UID:38247-1744966800-1744972200@worksourcerogue.org
SUMMARY:Basic Computer Class (In Person) Medford
DESCRIPTION:An introduction to computer basics including Microsoft Windows\, the Internet for Job Search\, managing files\, and iMatchskills Registration help.  For more information call 541-734-7533 or click the “Happy to help” button below.
URL:https://worksourcerogue.org/event/basic-computer-class-josephine-county-2025-04-18/
LOCATION:WorkSource Rogue Valley\, 119 N. Oakdale Ave.\, Medford\, OR 97501\, 119 North Oakdale\, Medford\, OR\, 97501\, United States
CATEGORIES:Computer Class
END:VEVENT
BEGIN:VEVENT
DTSTART;TZID=UTC:20250423T093000
DTEND;TZID=UTC:20250423T110000
DTSTAMP:20260425T141746
CREATED:20231002T205832Z
LAST-MODIFIED:20241122T200647Z
UID:38256-1745400600-1745406000@worksourcerogue.org
SUMMARY:Taller de Computación Básica en Español (En persona) Medford
DESCRIPTION:Un tema diferente se ofrece cada viernes: – Clase básica: Introducción a la computación básica – Clase básica: Registro de iMatchSkills – Clase básica: Introducción a la búsqueda de empleo en internet – Clase básica: Como realizar su reclamo semanal para el desempleo *Recomendación antes de asistir: Complete el registro básico en iMatchSkills y la conversación de bienvenida con uno de los miembros de nuestro equipo.
URL:https://worksourcerogue.org/event/clases-basicas-de-computacion-basic-computer-spanish-2-2025-04-23/
LOCATION:WorkSource Rogue Valley\, 119 N. Oakdale Ave.\, Medford\, OR 97501\, 119 North Oakdale\, Medford\, OR\, 97501\, United States
CATEGORIES:Computer Class,Spanish
END:VEVENT
BEGIN:VEVENT
DTSTART;TZID=UTC:20250425T090000
DTEND;TZID=UTC:20250425T103000
DTSTAMP:20260425T141746
CREATED:20230328T220336Z
LAST-MODIFIED:20241127T235347Z
UID:38261-1745571600-1745577000@worksourcerogue.org
SUMMARY:Basic Computer Class (In Person) Medford
DESCRIPTION:An introduction to computer basics including Microsoft Windows\, the Internet for Job Search\, managing files\, and iMatchskills Registration help.  For more information call 541-734-7533 or click the “Happy to help” button below.
URL:https://worksourcerogue.org/event/basic-computer-class-josephine-county-2025-04-25/
LOCATION:WorkSource Rogue Valley\, 119 N. Oakdale Ave.\, Medford\, OR 97501\, 119 North Oakdale\, Medford\, OR\, 97501\, United States
CATEGORIES:Computer Class
END:VEVENT
BEGIN:VEVENT
DTSTART;TZID=UTC:20250430T093000
DTEND;TZID=UTC:20250430T110000
DTSTAMP:20260425T141746
CREATED:20231002T205832Z
LAST-MODIFIED:20241122T200647Z
UID:38565-1746005400-1746010800@worksourcerogue.org
SUMMARY:Taller de Computación Básica en Español (En persona) Medford
DESCRIPTION:Un tema diferente se ofrece cada viernes: – Clase básica: Introducción a la computación básica – Clase básica: Registro de iMatchSkills – Clase básica: Introducción a la búsqueda de empleo en internet – Clase básica: Como realizar su reclamo semanal para el desempleo *Recomendación antes de asistir: Complete el registro básico en iMatchSkills y la conversación de bienvenida con uno de los miembros de nuestro equipo.
URL:https://worksourcerogue.org/event/clases-basicas-de-computacion-basic-computer-spanish-2-2025-04-30/
LOCATION:WorkSource Rogue Valley\, 119 N. Oakdale Ave.\, Medford\, OR 97501\, 119 North Oakdale\, Medford\, OR\, 97501\, United States
CATEGORIES:Computer Class,Spanish
END:VEVENT
BEGIN:VEVENT
DTSTART;TZID=UTC:20250502T090000
DTEND;TZID=UTC:20250502T103000
DTSTAMP:20260425T141746
CREATED:20230328T220336Z
LAST-MODIFIED:20241127T235348Z
UID:38570-1746176400-1746181800@worksourcerogue.org
SUMMARY:Basic Computer Class (In Person) Medford
DESCRIPTION:An introduction to computer basics including Microsoft Windows\, the Internet for Job Search\, managing files\, and iMatchskills Registration help.  For more information call 541-734-7533 or click the “Happy to help” button below.
URL:https://worksourcerogue.org/event/basic-computer-class-josephine-county-2025-05-02/
LOCATION:WorkSource Rogue Valley\, 119 N. Oakdale Ave.\, Medford\, OR 97501\, 119 North Oakdale\, Medford\, OR\, 97501\, United States
CATEGORIES:Computer Class
END:VEVENT
BEGIN:VEVENT
DTSTART;TZID=UTC:20250507T093000
DTEND;TZID=UTC:20250507T110000
DTSTAMP:20260425T141746
CREATED:20231002T205832Z
LAST-MODIFIED:20241122T200648Z
UID:38585-1746610200-1746615600@worksourcerogue.org
SUMMARY:Taller de Computación Básica en Español (En persona) Medford
DESCRIPTION:Un tema diferente se ofrece cada viernes: – Clase básica: Introducción a la computación básica – Clase básica: Registro de iMatchSkills – Clase básica: Introducción a la búsqueda de empleo en internet – Clase básica: Como realizar su reclamo semanal para el desempleo *Recomendación antes de asistir: Complete el registro básico en iMatchSkills y la conversación de bienvenida con uno de los miembros de nuestro equipo.
URL:https://worksourcerogue.org/event/clases-basicas-de-computacion-basic-computer-spanish-2-2025-05-07/
LOCATION:WorkSource Rogue Valley\, 119 N. Oakdale Ave.\, Medford\, OR 97501\, 119 North Oakdale\, Medford\, OR\, 97501\, United States
CATEGORIES:Computer Class,Spanish
END:VEVENT
BEGIN:VEVENT
DTSTART;TZID=UTC:20250509T090000
DTEND;TZID=UTC:20250509T103000
DTSTAMP:20260425T141746
CREATED:20230328T220336Z
LAST-MODIFIED:20241127T235349Z
UID:38590-1746781200-1746786600@worksourcerogue.org
SUMMARY:Basic Computer Class (In Person) Medford
DESCRIPTION:An introduction to computer basics including Microsoft Windows\, the Internet for Job Search\, managing files\, and iMatchskills Registration help.  For more information call 541-734-7533 or click the “Happy to help” button below.
URL:https://worksourcerogue.org/event/basic-computer-class-josephine-county-2025-05-09/
LOCATION:WorkSource Rogue Valley\, 119 N. Oakdale Ave.\, Medford\, OR 97501\, 119 North Oakdale\, Medford\, OR\, 97501\, United States
CATEGORIES:Computer Class
END:VEVENT
BEGIN:VEVENT
DTSTART;TZID=UTC:20250514T093000
DTEND;TZID=UTC:20250514T110000
DTSTAMP:20260425T141746
CREATED:20231002T205832Z
LAST-MODIFIED:20241122T200655Z
UID:38601-1747215000-1747220400@worksourcerogue.org
SUMMARY:Taller de Computación Básica en Español (En persona) Medford
DESCRIPTION:Un tema diferente se ofrece cada viernes: – Clase básica: Introducción a la computación básica – Clase básica: Registro de iMatchSkills – Clase básica: Introducción a la búsqueda de empleo en internet – Clase básica: Como realizar su reclamo semanal para el desempleo *Recomendación antes de asistir: Complete el registro básico en iMatchSkills y la conversación de bienvenida con uno de los miembros de nuestro equipo.
URL:https://worksourcerogue.org/event/clases-basicas-de-computacion-basic-computer-spanish-2-2025-05-14/
LOCATION:WorkSource Rogue Valley\, 119 N. Oakdale Ave.\, Medford\, OR 97501\, 119 North Oakdale\, Medford\, OR\, 97501\, United States
CATEGORIES:Computer Class,Spanish
END:VEVENT
BEGIN:VEVENT
DTSTART;TZID=UTC:20250516T090000
DTEND;TZID=UTC:20250516T103000
DTSTAMP:20260425T141746
CREATED:20230328T220336Z
LAST-MODIFIED:20241127T235349Z
UID:38607-1747386000-1747391400@worksourcerogue.org
SUMMARY:Basic Computer Class (In Person) Medford
DESCRIPTION:An introduction to computer basics including Microsoft Windows\, the Internet for Job Search\, managing files\, and iMatchskills Registration help.  For more information call 541-734-7533 or click the “Happy to help” button below.
URL:https://worksourcerogue.org/event/basic-computer-class-josephine-county-2025-05-16/
LOCATION:WorkSource Rogue Valley\, 119 N. Oakdale Ave.\, Medford\, OR 97501\, 119 North Oakdale\, Medford\, OR\, 97501\, United States
CATEGORIES:Computer Class
END:VEVENT
BEGIN:VEVENT
DTSTART;TZID=UTC:20250521T093000
DTEND;TZID=UTC:20250521T110000
DTSTAMP:20260425T141746
CREATED:20231002T205832Z
LAST-MODIFIED:20241122T200655Z
UID:38617-1747819800-1747825200@worksourcerogue.org
SUMMARY:Taller de Computación Básica en Español (En persona) Medford
DESCRIPTION:Un tema diferente se ofrece cada viernes: – Clase básica: Introducción a la computación básica – Clase básica: Registro de iMatchSkills – Clase básica: Introducción a la búsqueda de empleo en internet – Clase básica: Como realizar su reclamo semanal para el desempleo *Recomendación antes de asistir: Complete el registro básico en iMatchSkills y la conversación de bienvenida con uno de los miembros de nuestro equipo.
URL:https://worksourcerogue.org/event/clases-basicas-de-computacion-basic-computer-spanish-2-2025-05-21/
LOCATION:WorkSource Rogue Valley\, 119 N. Oakdale Ave.\, Medford\, OR 97501\, 119 North Oakdale\, Medford\, OR\, 97501\, United States
CATEGORIES:Computer Class,Spanish
END:VEVENT
BEGIN:VEVENT
DTSTART;TZID=UTC:20250523T090000
DTEND;TZID=UTC:20250523T103000
DTSTAMP:20260425T141746
CREATED:20230328T220336Z
LAST-MODIFIED:20241127T235350Z
UID:38622-1747990800-1747996200@worksourcerogue.org
SUMMARY:Basic Computer Class (In Person) Medford
DESCRIPTION:An introduction to computer basics including Microsoft Windows\, the Internet for Job Search\, managing files\, and iMatchskills Registration help.  For more information call 541-734-7533 or click the “Happy to help” button below.
URL:https://worksourcerogue.org/event/basic-computer-class-josephine-county-2025-05-23/
LOCATION:WorkSource Rogue Valley\, 119 N. Oakdale Ave.\, Medford\, OR 97501\, 119 North Oakdale\, Medford\, OR\, 97501\, United States
CATEGORIES:Computer Class
END:VEVENT
BEGIN:VEVENT
DTSTART;TZID=UTC:20250528T093000
DTEND;TZID=UTC:20250528T110000
DTSTAMP:20260425T141747
CREATED:20231002T205832Z
LAST-MODIFIED:20241122T200656Z
UID:38634-1748424600-1748430000@worksourcerogue.org
SUMMARY:Taller de Computación Básica en Español (En persona) Medford
DESCRIPTION:Un tema diferente se ofrece cada viernes: – Clase básica: Introducción a la computación básica – Clase básica: Registro de iMatchSkills – Clase básica: Introducción a la búsqueda de empleo en internet – Clase básica: Como realizar su reclamo semanal para el desempleo *Recomendación antes de asistir: Complete el registro básico en iMatchSkills y la conversación de bienvenida con uno de los miembros de nuestro equipo.
URL:https://worksourcerogue.org/event/clases-basicas-de-computacion-basic-computer-spanish-2-2025-05-28/
LOCATION:WorkSource Rogue Valley\, 119 N. Oakdale Ave.\, Medford\, OR 97501\, 119 North Oakdale\, Medford\, OR\, 97501\, United States
CATEGORIES:Computer Class,Spanish
END:VEVENT
BEGIN:VEVENT
DTSTART;TZID=UTC:20250530T090000
DTEND;TZID=UTC:20250530T103000
DTSTAMP:20260425T141747
CREATED:20230328T220336Z
LAST-MODIFIED:20241127T235351Z
UID:38639-1748595600-1748601000@worksourcerogue.org
SUMMARY:Basic Computer Class (In Person) Medford
DESCRIPTION:An introduction to computer basics including Microsoft Windows\, the Internet for Job Search\, managing files\, and iMatchskills Registration help.  For more information call 541-734-7533 or click the “Happy to help” button below.
URL:https://worksourcerogue.org/event/basic-computer-class-josephine-county-2025-05-30/
LOCATION:WorkSource Rogue Valley\, 119 N. Oakdale Ave.\, Medford\, OR 97501\, 119 North Oakdale\, Medford\, OR\, 97501\, United States
CATEGORIES:Computer Class
END:VEVENT
BEGIN:VEVENT
DTSTART;TZID=UTC:20250604T093000
DTEND;TZID=UTC:20250604T110000
DTSTAMP:20260425T141747
CREATED:20231002T205832Z
LAST-MODIFIED:20241122T200656Z
UID:38649-1749029400-1749034800@worksourcerogue.org
SUMMARY:Taller de Computación Básica en Español (En persona) Medford
DESCRIPTION:Un tema diferente se ofrece cada viernes: – Clase básica: Introducción a la computación básica – Clase básica: Registro de iMatchSkills – Clase básica: Introducción a la búsqueda de empleo en internet – Clase básica: Como realizar su reclamo semanal para el desempleo *Recomendación antes de asistir: Complete el registro básico en iMatchSkills y la conversación de bienvenida con uno de los miembros de nuestro equipo.
URL:https://worksourcerogue.org/event/clases-basicas-de-computacion-basic-computer-spanish-2-2025-06-04/
LOCATION:WorkSource Rogue Valley\, 119 N. Oakdale Ave.\, Medford\, OR 97501\, 119 North Oakdale\, Medford\, OR\, 97501\, United States
CATEGORIES:Computer Class,Spanish
END:VEVENT
BEGIN:VEVENT
DTSTART;TZID=UTC:20250606T090000
DTEND;TZID=UTC:20250606T103000
DTSTAMP:20260425T141747
CREATED:20230328T220336Z
LAST-MODIFIED:20241127T235352Z
UID:38659-1749200400-1749205800@worksourcerogue.org
SUMMARY:Basic Computer Class (In Person) Medford
DESCRIPTION:An introduction to computer basics including Microsoft Windows\, the Internet for Job Search\, managing files\, and iMatchskills Registration help.  For more information call 541-734-7533 or click the “Happy to help” button below.
URL:https://worksourcerogue.org/event/basic-computer-class-josephine-county-2025-06-06/
LOCATION:WorkSource Rogue Valley\, 119 N. Oakdale Ave.\, Medford\, OR 97501\, 119 North Oakdale\, Medford\, OR\, 97501\, United States
CATEGORIES:Computer Class
END:VEVENT
BEGIN:VEVENT
DTSTART;TZID=UTC:20250611T093000
DTEND;TZID=UTC:20250611T110000
DTSTAMP:20260425T141747
CREATED:20231002T205832Z
LAST-MODIFIED:20241122T200656Z
UID:38673-1749634200-1749639600@worksourcerogue.org
SUMMARY:Taller de Computación Básica en Español (En persona) Medford
DESCRIPTION:Un tema diferente se ofrece cada viernes: – Clase básica: Introducción a la computación básica – Clase básica: Registro de iMatchSkills – Clase básica: Introducción a la búsqueda de empleo en internet – Clase básica: Como realizar su reclamo semanal para el desempleo *Recomendación antes de asistir: Complete el registro básico en iMatchSkills y la conversación de bienvenida con uno de los miembros de nuestro equipo.
URL:https://worksourcerogue.org/event/clases-basicas-de-computacion-basic-computer-spanish-2-2025-06-11/
LOCATION:WorkSource Rogue Valley\, 119 N. Oakdale Ave.\, Medford\, OR 97501\, 119 North Oakdale\, Medford\, OR\, 97501\, United States
CATEGORIES:Computer Class,Spanish
END:VEVENT
BEGIN:VEVENT
DTSTART;TZID=UTC:20250613T090000
DTEND;TZID=UTC:20250613T103000
DTSTAMP:20260425T141747
CREATED:20230328T220336Z
LAST-MODIFIED:20241127T235352Z
UID:38681-1749805200-1749810600@worksourcerogue.org
SUMMARY:Basic Computer Class (In Person) Medford
DESCRIPTION:An introduction to computer basics including Microsoft Windows\, the Internet for Job Search\, managing files\, and iMatchskills Registration help.  For more information call 541-734-7533 or click the “Happy to help” button below.
URL:https://worksourcerogue.org/event/basic-computer-class-josephine-county-2025-06-13/
LOCATION:WorkSource Rogue Valley\, 119 N. Oakdale Ave.\, Medford\, OR 97501\, 119 North Oakdale\, Medford\, OR\, 97501\, United States
CATEGORIES:Computer Class
END:VEVENT
BEGIN:VEVENT
DTSTART;TZID=UTC:20250618T093000
DTEND;TZID=UTC:20250618T110000
DTSTAMP:20260425T141747
CREATED:20231002T205832Z
LAST-MODIFIED:20241122T200657Z
UID:38692-1750239000-1750244400@worksourcerogue.org
SUMMARY:Taller de Computación Básica en Español (En persona) Medford
DESCRIPTION:Un tema diferente se ofrece cada viernes: – Clase básica: Introducción a la computación básica – Clase básica: Registro de iMatchSkills – Clase básica: Introducción a la búsqueda de empleo en internet – Clase básica: Como realizar su reclamo semanal para el desempleo *Recomendación antes de asistir: Complete el registro básico en iMatchSkills y la conversación de bienvenida con uno de los miembros de nuestro equipo.
URL:https://worksourcerogue.org/event/clases-basicas-de-computacion-basic-computer-spanish-2-2025-06-18/
LOCATION:WorkSource Rogue Valley\, 119 N. Oakdale Ave.\, Medford\, OR 97501\, 119 North Oakdale\, Medford\, OR\, 97501\, United States
CATEGORIES:Computer Class,Spanish
END:VEVENT
END:VCALENDAR