BEGIN:VCALENDAR
VERSION:2.0
PRODID:-//WorkSource Rogue Valley - Support for Job Seekers, Employers, Youth and Childcare - ECPv6.15.20//NONSGML v1.0//EN
CALSCALE:GREGORIAN
METHOD:PUBLISH
X-ORIGINAL-URL:https://worksourcerogue.org
X-WR-CALDESC:Events for WorkSource Rogue Valley - Support for Job Seekers, Employers, Youth and Childcare
REFRESH-INTERVAL;VALUE=DURATION:PT1H
X-Robots-Tag:noindex
X-PUBLISHED-TTL:PT1H
BEGIN:VTIMEZONE
TZID:UTC
BEGIN:STANDARD
TZOFFSETFROM:+0000
TZOFFSETTO:+0000
TZNAME:UTC
DTSTART:20240101T000000
END:STANDARD
END:VTIMEZONE
BEGIN:VEVENT
DTSTART;TZID=UTC:20250806T093000
DTEND;TZID=UTC:20250806T110000
DTSTAMP:20260426T004607
CREATED:20231002T205832Z
LAST-MODIFIED:20241122T200706Z
UID:38862-1754472600-1754478000@worksourcerogue.org
SUMMARY:Taller de Computación Básica en Español (En persona) Medford
DESCRIPTION:Un tema diferente se ofrece cada viernes: – Clase básica: Introducción a la computación básica – Clase básica: Registro de iMatchSkills – Clase básica: Introducción a la búsqueda de empleo en internet – Clase básica: Como realizar su reclamo semanal para el desempleo *Recomendación antes de asistir: Complete el registro básico en iMatchSkills y la conversación de bienvenida con uno de los miembros de nuestro equipo.
URL:https://worksourcerogue.org/event/clases-basicas-de-computacion-basic-computer-spanish-2-2025-08-06/
LOCATION:WorkSource Rogue Valley\, 119 N. Oakdale Ave.\, Medford\, OR 97501\, 119 North Oakdale\, Medford\, OR\, 97501\, United States
CATEGORIES:Computer Class,Spanish
END:VEVENT
BEGIN:VEVENT
DTSTART;TZID=UTC:20250808T090000
DTEND;TZID=UTC:20250808T103000
DTSTAMP:20260426T004607
CREATED:20230328T220336Z
LAST-MODIFIED:20241127T235400Z
UID:38867-1754643600-1754649000@worksourcerogue.org
SUMMARY:Basic Computer Class (In Person) Medford
DESCRIPTION:An introduction to computer basics including Microsoft Windows\, the Internet for Job Search\, managing files\, and iMatchskills Registration help.  For more information call 541-734-7533 or click the “Happy to help” button below.
URL:https://worksourcerogue.org/event/basic-computer-class-josephine-county-2025-08-08/
LOCATION:WorkSource Rogue Valley\, 119 N. Oakdale Ave.\, Medford\, OR 97501\, 119 North Oakdale\, Medford\, OR\, 97501\, United States
CATEGORIES:Computer Class
END:VEVENT
BEGIN:VEVENT
DTSTART;TZID=UTC:20250813T093000
DTEND;TZID=UTC:20250813T110000
DTSTAMP:20260426T004607
CREATED:20231002T205832Z
LAST-MODIFIED:20241122T200706Z
UID:39272-1755077400-1755082800@worksourcerogue.org
SUMMARY:Taller de Computación Básica en Español (En persona) Medford
DESCRIPTION:Un tema diferente se ofrece cada viernes: – Clase básica: Introducción a la computación básica – Clase básica: Registro de iMatchSkills – Clase básica: Introducción a la búsqueda de empleo en internet – Clase básica: Como realizar su reclamo semanal para el desempleo *Recomendación antes de asistir: Complete el registro básico en iMatchSkills y la conversación de bienvenida con uno de los miembros de nuestro equipo.
URL:https://worksourcerogue.org/event/clases-basicas-de-computacion-basic-computer-spanish-2-2025-08-13/
LOCATION:WorkSource Rogue Valley\, 119 N. Oakdale Ave.\, Medford\, OR 97501\, 119 North Oakdale\, Medford\, OR\, 97501\, United States
CATEGORIES:Computer Class,Spanish
END:VEVENT
BEGIN:VEVENT
DTSTART;TZID=UTC:20250815T090000
DTEND;TZID=UTC:20250815T103000
DTSTAMP:20260426T004607
CREATED:20230328T220336Z
LAST-MODIFIED:20241127T235401Z
UID:39277-1755248400-1755253800@worksourcerogue.org
SUMMARY:Basic Computer Class (In Person) Medford
DESCRIPTION:An introduction to computer basics including Microsoft Windows\, the Internet for Job Search\, managing files\, and iMatchskills Registration help.  For more information call 541-734-7533 or click the “Happy to help” button below.
URL:https://worksourcerogue.org/event/basic-computer-class-josephine-county-2025-08-15/
LOCATION:WorkSource Rogue Valley\, 119 N. Oakdale Ave.\, Medford\, OR 97501\, 119 North Oakdale\, Medford\, OR\, 97501\, United States
CATEGORIES:Computer Class
END:VEVENT
BEGIN:VEVENT
DTSTART;TZID=UTC:20250820T093000
DTEND;TZID=UTC:20250820T110000
DTSTAMP:20260426T004607
CREATED:20231002T205832Z
LAST-MODIFIED:20241122T200707Z
UID:39295-1755682200-1755687600@worksourcerogue.org
SUMMARY:Taller de Computación Básica en Español (En persona) Medford
DESCRIPTION:Un tema diferente se ofrece cada viernes: – Clase básica: Introducción a la computación básica – Clase básica: Registro de iMatchSkills – Clase básica: Introducción a la búsqueda de empleo en internet – Clase básica: Como realizar su reclamo semanal para el desempleo *Recomendación antes de asistir: Complete el registro básico en iMatchSkills y la conversación de bienvenida con uno de los miembros de nuestro equipo.
URL:https://worksourcerogue.org/event/clases-basicas-de-computacion-basic-computer-spanish-2-2025-08-20/
LOCATION:WorkSource Rogue Valley\, 119 N. Oakdale Ave.\, Medford\, OR 97501\, 119 North Oakdale\, Medford\, OR\, 97501\, United States
CATEGORIES:Computer Class,Spanish
END:VEVENT
BEGIN:VEVENT
DTSTART;TZID=UTC:20250822T090000
DTEND;TZID=UTC:20250822T103000
DTSTAMP:20260426T004607
CREATED:20230328T220336Z
LAST-MODIFIED:20241127T235401Z
UID:39300-1755853200-1755858600@worksourcerogue.org
SUMMARY:Basic Computer Class (In Person) Medford
DESCRIPTION:An introduction to computer basics including Microsoft Windows\, the Internet for Job Search\, managing files\, and iMatchskills Registration help.  For more information call 541-734-7533 or click the “Happy to help” button below.
URL:https://worksourcerogue.org/event/basic-computer-class-josephine-county-2025-08-22/
LOCATION:WorkSource Rogue Valley\, 119 N. Oakdale Ave.\, Medford\, OR 97501\, 119 North Oakdale\, Medford\, OR\, 97501\, United States
CATEGORIES:Computer Class
END:VEVENT
BEGIN:VEVENT
DTSTART;TZID=UTC:20250827T093000
DTEND;TZID=UTC:20250827T110000
DTSTAMP:20260426T004607
CREATED:20231002T205832Z
LAST-MODIFIED:20241122T200707Z
UID:39309-1756287000-1756292400@worksourcerogue.org
SUMMARY:Taller de Computación Básica en Español (En persona) Medford
DESCRIPTION:Un tema diferente se ofrece cada viernes: – Clase básica: Introducción a la computación básica – Clase básica: Registro de iMatchSkills – Clase básica: Introducción a la búsqueda de empleo en internet – Clase básica: Como realizar su reclamo semanal para el desempleo *Recomendación antes de asistir: Complete el registro básico en iMatchSkills y la conversación de bienvenida con uno de los miembros de nuestro equipo.
URL:https://worksourcerogue.org/event/clases-basicas-de-computacion-basic-computer-spanish-2-2025-08-27/
LOCATION:WorkSource Rogue Valley\, 119 N. Oakdale Ave.\, Medford\, OR 97501\, 119 North Oakdale\, Medford\, OR\, 97501\, United States
CATEGORIES:Computer Class,Spanish
END:VEVENT
BEGIN:VEVENT
DTSTART;TZID=UTC:20250829T090000
DTEND;TZID=UTC:20250829T103000
DTSTAMP:20260426T004607
CREATED:20230328T220336Z
LAST-MODIFIED:20241127T235404Z
UID:39315-1756458000-1756463400@worksourcerogue.org
SUMMARY:Basic Computer Class (In Person) Medford
DESCRIPTION:An introduction to computer basics including Microsoft Windows\, the Internet for Job Search\, managing files\, and iMatchskills Registration help.  For more information call 541-734-7533 or click the “Happy to help” button below.
URL:https://worksourcerogue.org/event/basic-computer-class-josephine-county-2025-08-29/
LOCATION:WorkSource Rogue Valley\, 119 N. Oakdale Ave.\, Medford\, OR 97501\, 119 North Oakdale\, Medford\, OR\, 97501\, United States
CATEGORIES:Computer Class
END:VEVENT
BEGIN:VEVENT
DTSTART;TZID=UTC:20250903T093000
DTEND;TZID=UTC:20250903T110000
DTSTAMP:20260426T004607
CREATED:20231002T205832Z
LAST-MODIFIED:20241122T200708Z
UID:39362-1756891800-1756897200@worksourcerogue.org
SUMMARY:Taller de Computación Básica en Español (En persona) Medford
DESCRIPTION:Un tema diferente se ofrece cada viernes: – Clase básica: Introducción a la computación básica – Clase básica: Registro de iMatchSkills – Clase básica: Introducción a la búsqueda de empleo en internet – Clase básica: Como realizar su reclamo semanal para el desempleo *Recomendación antes de asistir: Complete el registro básico en iMatchSkills y la conversación de bienvenida con uno de los miembros de nuestro equipo.
URL:https://worksourcerogue.org/event/clases-basicas-de-computacion-basic-computer-spanish-2-2025-09-03/
LOCATION:WorkSource Rogue Valley\, 119 N. Oakdale Ave.\, Medford\, OR 97501\, 119 North Oakdale\, Medford\, OR\, 97501\, United States
CATEGORIES:Computer Class,Spanish
END:VEVENT
BEGIN:VEVENT
DTSTART;TZID=UTC:20250905T090000
DTEND;TZID=UTC:20250905T103000
DTSTAMP:20260426T004607
CREATED:20230328T220336Z
LAST-MODIFIED:20241127T235404Z
UID:39386-1757062800-1757068200@worksourcerogue.org
SUMMARY:Basic Computer Class (In Person) Medford
DESCRIPTION:An introduction to computer basics including Microsoft Windows\, the Internet for Job Search\, managing files\, and iMatchskills Registration help.  For more information call 541-734-7533 or click the “Happy to help” button below.
URL:https://worksourcerogue.org/event/basic-computer-class-josephine-county-2025-09-05/
LOCATION:WorkSource Rogue Valley\, 119 N. Oakdale Ave.\, Medford\, OR 97501\, 119 North Oakdale\, Medford\, OR\, 97501\, United States
CATEGORIES:Computer Class
END:VEVENT
BEGIN:VEVENT
DTSTART;TZID=UTC:20250910T100000
DTEND;TZID=UTC:20250910T110000
DTSTAMP:20260426T004608
CREATED:20231002T205832Z
LAST-MODIFIED:20250902T172917Z
UID:39395-1757498400-1757502000@worksourcerogue.org
SUMMARY:Taller de Computación Básica en Español (En persona) Medford
DESCRIPTION:Un tema diferente se ofrece cada viernes: – Clase básica: Introducción a la computación básica – Clase básica: Registro de iMatchSkills – Clase básica: Introducción a la búsqueda de empleo en internet – Clase básica: Como realizar su reclamo semanal para el desempleo *Recomendación antes de asistir: Complete el registro básico en iMatchSkills y la conversación de bienvenida con uno de los miembros de nuestro equipo.
URL:https://worksourcerogue.org/event/clases-basicas-de-computacion-basic-computer-spanish-2-2025-09-10/
LOCATION:WorkSource Rogue Valley\, 119 N. Oakdale Ave.\, Medford\, OR 97501\, 119 North Oakdale\, Medford\, OR\, 97501\, United States
CATEGORIES:Computer Class,Spanish
END:VEVENT
BEGIN:VEVENT
DTSTART;TZID=UTC:20250912T090000
DTEND;TZID=UTC:20250912T103000
DTSTAMP:20260426T004608
CREATED:20230328T220336Z
LAST-MODIFIED:20241127T235404Z
UID:39400-1757667600-1757673000@worksourcerogue.org
SUMMARY:Basic Computer Class (In Person) Medford
DESCRIPTION:An introduction to computer basics including Microsoft Windows\, the Internet for Job Search\, managing files\, and iMatchskills Registration help.  For more information call 541-734-7533 or click the “Happy to help” button below.
URL:https://worksourcerogue.org/event/basic-computer-class-josephine-county-2025-09-12/
LOCATION:WorkSource Rogue Valley\, 119 N. Oakdale Ave.\, Medford\, OR 97501\, 119 North Oakdale\, Medford\, OR\, 97501\, United States
CATEGORIES:Computer Class
END:VEVENT
BEGIN:VEVENT
DTSTART;TZID=UTC:20250917T100000
DTEND;TZID=UTC:20250917T110000
DTSTAMP:20260426T004608
CREATED:20231002T205832Z
LAST-MODIFIED:20250902T172741Z
UID:39404-1758103200-1758106800@worksourcerogue.org
SUMMARY:Taller de Computación Básica en Español (En persona) Medford
DESCRIPTION:Un tema diferente se ofrece cada viernes: – Clase básica: Introducción a la computación básica – Clase básica: Registro de iMatchSkills – Clase básica: Introducción a la búsqueda de empleo en internet – Clase básica: Como realizar su reclamo semanal para el desempleo *Recomendación antes de asistir: Complete el registro básico en iMatchSkills y la conversación de bienvenida con uno de los miembros de nuestro equipo.
URL:https://worksourcerogue.org/event/clases-basicas-de-computacion-basic-computer-spanish-2-2025-09-17/
LOCATION:WorkSource Rogue Valley\, 119 N. Oakdale Ave.\, Medford\, OR 97501\, 119 North Oakdale\, Medford\, OR\, 97501\, United States
CATEGORIES:Computer Class,Spanish
END:VEVENT
BEGIN:VEVENT
DTSTART;TZID=UTC:20250919T090000
DTEND;TZID=UTC:20250919T103000
DTSTAMP:20260426T004608
CREATED:20230328T220336Z
LAST-MODIFIED:20241127T235405Z
UID:39407-1758272400-1758277800@worksourcerogue.org
SUMMARY:Basic Computer Class (In Person) Medford
DESCRIPTION:An introduction to computer basics including Microsoft Windows\, the Internet for Job Search\, managing files\, and iMatchskills Registration help.  For more information call 541-734-7533 or click the “Happy to help” button below.
URL:https://worksourcerogue.org/event/basic-computer-class-josephine-county-2025-09-19/
LOCATION:WorkSource Rogue Valley\, 119 N. Oakdale Ave.\, Medford\, OR 97501\, 119 North Oakdale\, Medford\, OR\, 97501\, United States
CATEGORIES:Computer Class
END:VEVENT
BEGIN:VEVENT
DTSTART;TZID=UTC:20250924T100000
DTEND;TZID=UTC:20250924T110000
DTSTAMP:20260426T004608
CREATED:20231002T205832Z
LAST-MODIFIED:20250902T172641Z
UID:39410-1758708000-1758711600@worksourcerogue.org
SUMMARY:Taller de Computación Básica en Español (En persona) Medford
DESCRIPTION:Un tema diferente se ofrece cada viernes: – Clase básica: Introducción a la computación básica – Clase básica: Registro de iMatchSkills – Clase básica: Introducción a la búsqueda de empleo en internet – Clase básica: Como realizar su reclamo semanal para el desempleo *Recomendación antes de asistir: Complete el registro básico en iMatchSkills y la conversación de bienvenida con uno de los miembros de nuestro equipo.
URL:https://worksourcerogue.org/event/clases-basicas-de-computacion-basic-computer-spanish-2-2025-09-24/
LOCATION:WorkSource Rogue Valley\, 119 N. Oakdale Ave.\, Medford\, OR 97501\, 119 North Oakdale\, Medford\, OR\, 97501\, United States
CATEGORIES:Computer Class,Spanish
END:VEVENT
BEGIN:VEVENT
DTSTART;TZID=UTC:20250926T090000
DTEND;TZID=UTC:20250926T103000
DTSTAMP:20260426T004608
CREATED:20230328T220336Z
LAST-MODIFIED:20241127T235406Z
UID:39412-1758877200-1758882600@worksourcerogue.org
SUMMARY:Basic Computer Class (In Person) Medford
DESCRIPTION:An introduction to computer basics including Microsoft Windows\, the Internet for Job Search\, managing files\, and iMatchskills Registration help.  For more information call 541-734-7533 or click the “Happy to help” button below.
URL:https://worksourcerogue.org/event/basic-computer-class-josephine-county-2025-09-26/
LOCATION:WorkSource Rogue Valley\, 119 N. Oakdale Ave.\, Medford\, OR 97501\, 119 North Oakdale\, Medford\, OR\, 97501\, United States
CATEGORIES:Computer Class
END:VEVENT
BEGIN:VEVENT
DTSTART;TZID=UTC:20251001T100000
DTEND;TZID=UTC:20251001T110000
DTSTAMP:20260426T004608
CREATED:20231002T205832Z
LAST-MODIFIED:20250929T175706Z
UID:39422-1759312800-1759316400@worksourcerogue.org
SUMMARY:Taller de Computación Básica en Español (En persona) Medford
DESCRIPTION:Un tema diferente se ofrece cada viernes: – Clase básica: Introducción a la computación básica – Clase básica: Registro de iMatchSkills – Clase básica: Introducción a la búsqueda de empleo en internet – Clase básica: Como realizar su reclamo semanal para el desempleo *Recomendación antes de asistir: Complete el registro básico en iMatchSkills y la conversación de bienvenida con uno de los miembros de nuestro equipo.
URL:https://worksourcerogue.org/event/clases-basicas-de-computacion-basic-computer-spanish-2-2025-10-01/
LOCATION:WorkSource Rogue Valley\, 119 N. Oakdale Ave.\, Medford\, OR 97501\, 119 North Oakdale\, Medford\, OR\, 97501\, United States
CATEGORIES:Computer Class,Spanish
END:VEVENT
BEGIN:VEVENT
DTSTART;TZID=UTC:20251003T090000
DTEND;TZID=UTC:20251003T103000
DTSTAMP:20260426T004608
CREATED:20230328T220336Z
LAST-MODIFIED:20241127T235407Z
UID:39424-1759482000-1759487400@worksourcerogue.org
SUMMARY:Basic Computer Class (In Person) Medford
DESCRIPTION:An introduction to computer basics including Microsoft Windows\, the Internet for Job Search\, managing files\, and iMatchskills Registration help.  For more information call 541-734-7533 or click the “Happy to help” button below.
URL:https://worksourcerogue.org/event/basic-computer-class-josephine-county-2025-10-03/
LOCATION:WorkSource Rogue Valley\, 119 N. Oakdale Ave.\, Medford\, OR 97501\, 119 North Oakdale\, Medford\, OR\, 97501\, United States
CATEGORIES:Computer Class
END:VEVENT
BEGIN:VEVENT
DTSTART;TZID=UTC:20251008T100000
DTEND;TZID=UTC:20251008T110000
DTSTAMP:20260426T004608
CREATED:20231002T205832Z
LAST-MODIFIED:20250929T175755Z
UID:39428-1759917600-1759921200@worksourcerogue.org
SUMMARY:Taller de Computación Básica en Español (En persona) Medford
DESCRIPTION:Un tema diferente se ofrece cada viernes: – Clase básica: Introducción a la computación básica – Clase básica: Registro de iMatchSkills – Clase básica: Introducción a la búsqueda de empleo en internet – Clase básica: Como realizar su reclamo semanal para el desempleo *Recomendación antes de asistir: Complete el registro básico en iMatchSkills y la conversación de bienvenida con uno de los miembros de nuestro equipo.
URL:https://worksourcerogue.org/event/clases-basicas-de-computacion-basic-computer-spanish-2-2025-10-08/
LOCATION:WorkSource Rogue Valley\, 119 N. Oakdale Ave.\, Medford\, OR 97501\, 119 North Oakdale\, Medford\, OR\, 97501\, United States
CATEGORIES:Computer Class,Spanish
END:VEVENT
BEGIN:VEVENT
DTSTART;TZID=UTC:20251010T090000
DTEND;TZID=UTC:20251010T103000
DTSTAMP:20260426T004608
CREATED:20230328T220336Z
LAST-MODIFIED:20241127T235408Z
UID:39430-1760086800-1760092200@worksourcerogue.org
SUMMARY:Basic Computer Class (In Person) Medford
DESCRIPTION:An introduction to computer basics including Microsoft Windows\, the Internet for Job Search\, managing files\, and iMatchskills Registration help.  For more information call 541-734-7533 or click the “Happy to help” button below.
URL:https://worksourcerogue.org/event/basic-computer-class-josephine-county-2025-10-10/
LOCATION:WorkSource Rogue Valley\, 119 N. Oakdale Ave.\, Medford\, OR 97501\, 119 North Oakdale\, Medford\, OR\, 97501\, United States
CATEGORIES:Computer Class
END:VEVENT
BEGIN:VEVENT
DTSTART;TZID=UTC:20251015T100000
DTEND;TZID=UTC:20251015T110000
DTSTAMP:20260426T004608
CREATED:20231002T205832Z
LAST-MODIFIED:20250929T180301Z
UID:39435-1760522400-1760526000@worksourcerogue.org
SUMMARY:Taller de Computación Básica en Español (En persona) Medford
DESCRIPTION:Un tema diferente se ofrece cada viernes: – Clase básica: Introducción a la computación básica – Clase básica: Registro de iMatchSkills – Clase básica: Introducción a la búsqueda de empleo en internet – Clase básica: Como realizar su reclamo semanal para el desempleo *Recomendación antes de asistir: Complete el registro básico en iMatchSkills y la conversación de bienvenida con uno de los miembros de nuestro equipo.
URL:https://worksourcerogue.org/event/clases-basicas-de-computacion-basic-computer-spanish-2-2025-10-15/
LOCATION:WorkSource Rogue Valley\, 119 N. Oakdale Ave.\, Medford\, OR 97501\, 119 North Oakdale\, Medford\, OR\, 97501\, United States
CATEGORIES:Computer Class,Spanish
END:VEVENT
BEGIN:VEVENT
DTSTART;TZID=UTC:20251017T090000
DTEND;TZID=UTC:20251017T103000
DTSTAMP:20260426T004608
CREATED:20230328T220336Z
LAST-MODIFIED:20241127T235410Z
UID:39437-1760691600-1760697000@worksourcerogue.org
SUMMARY:Basic Computer Class (In Person) Medford
DESCRIPTION:An introduction to computer basics including Microsoft Windows\, the Internet for Job Search\, managing files\, and iMatchskills Registration help.  For more information call 541-734-7533 or click the “Happy to help” button below.
URL:https://worksourcerogue.org/event/basic-computer-class-josephine-county-2025-10-17/
LOCATION:WorkSource Rogue Valley\, 119 N. Oakdale Ave.\, Medford\, OR 97501\, 119 North Oakdale\, Medford\, OR\, 97501\, United States
CATEGORIES:Computer Class
END:VEVENT
BEGIN:VEVENT
DTSTART;TZID=UTC:20251022T100000
DTEND;TZID=UTC:20251022T110000
DTSTAMP:20260426T004608
CREATED:20231002T205832Z
LAST-MODIFIED:20250929T180737Z
UID:39440-1761127200-1761130800@worksourcerogue.org
SUMMARY:Taller de Computación Básica en Español (En persona) Medford
DESCRIPTION:Un tema diferente se ofrece cada viernes: – Clase básica: Introducción a la computación básica – Clase básica: Registro de iMatchSkills – Clase básica: Introducción a la búsqueda de empleo en internet – Clase básica: Como realizar su reclamo semanal para el desempleo *Recomendación antes de asistir: Complete el registro básico en iMatchSkills y la conversación de bienvenida con uno de los miembros de nuestro equipo.
URL:https://worksourcerogue.org/event/clases-basicas-de-computacion-basic-computer-spanish-2-2025-10-22/
LOCATION:WorkSource Rogue Valley\, 119 N. Oakdale Ave.\, Medford\, OR 97501\, 119 North Oakdale\, Medford\, OR\, 97501\, United States
CATEGORIES:Computer Class,Spanish
END:VEVENT
BEGIN:VEVENT
DTSTART;TZID=UTC:20251024T090000
DTEND;TZID=UTC:20251024T103000
DTSTAMP:20260426T004608
CREATED:20230328T220336Z
LAST-MODIFIED:20241127T235412Z
UID:39442-1761296400-1761301800@worksourcerogue.org
SUMMARY:Basic Computer Class (In Person) Medford
DESCRIPTION:An introduction to computer basics including Microsoft Windows\, the Internet for Job Search\, managing files\, and iMatchskills Registration help.  For more information call 541-734-7533 or click the “Happy to help” button below.
URL:https://worksourcerogue.org/event/basic-computer-class-josephine-county-2025-10-24/
LOCATION:WorkSource Rogue Valley\, 119 N. Oakdale Ave.\, Medford\, OR 97501\, 119 North Oakdale\, Medford\, OR\, 97501\, United States
CATEGORIES:Computer Class
END:VEVENT
BEGIN:VEVENT
DTSTART;TZID=UTC:20251029T100000
DTEND;TZID=UTC:20251029T110000
DTSTAMP:20260426T004608
CREATED:20231002T205832Z
LAST-MODIFIED:20250929T181057Z
UID:39446-1761732000-1761735600@worksourcerogue.org
SUMMARY:Taller de Computación Básica en Español (En persona) Medford
DESCRIPTION:Un tema diferente se ofrece cada viernes: – Clase básica: Introducción a la computación básica – Clase básica: Registro de iMatchSkills – Clase básica: Introducción a la búsqueda de empleo en internet – Clase básica: Como realizar su reclamo semanal para el desempleo *Recomendación antes de asistir: Complete el registro básico en iMatchSkills y la conversación de bienvenida con uno de los miembros de nuestro equipo.
URL:https://worksourcerogue.org/event/clases-basicas-de-computacion-basic-computer-spanish-2-2025-10-29/
LOCATION:WorkSource Rogue Valley\, 119 N. Oakdale Ave.\, Medford\, OR 97501\, 119 North Oakdale\, Medford\, OR\, 97501\, United States
CATEGORIES:Computer Class,Spanish
END:VEVENT
BEGIN:VEVENT
DTSTART;TZID=UTC:20251031T090000
DTEND;TZID=UTC:20251031T103000
DTSTAMP:20260426T004608
CREATED:20230328T220336Z
LAST-MODIFIED:20241127T235413Z
UID:39493-1761901200-1761906600@worksourcerogue.org
SUMMARY:Basic Computer Class (In Person) Medford
DESCRIPTION:An introduction to computer basics including Microsoft Windows\, the Internet for Job Search\, managing files\, and iMatchskills Registration help.  For more information call 541-734-7533 or click the “Happy to help” button below.
URL:https://worksourcerogue.org/event/basic-computer-class-josephine-county-2025-10-31/
LOCATION:WorkSource Rogue Valley\, 119 N. Oakdale Ave.\, Medford\, OR 97501\, 119 North Oakdale\, Medford\, OR\, 97501\, United States
CATEGORIES:Computer Class
END:VEVENT
BEGIN:VEVENT
DTSTART;TZID=UTC:20251105T100000
DTEND;TZID=UTC:20251105T110000
DTSTAMP:20260426T004608
CREATED:20231002T205832Z
LAST-MODIFIED:20250929T181153Z
UID:39600-1762336800-1762340400@worksourcerogue.org
SUMMARY:Taller de Computación Básica en Español (En persona) Medford
DESCRIPTION:Un tema diferente se ofrece cada viernes: – Clase básica: Introducción a la computación básica – Clase básica: Registro de iMatchSkills – Clase básica: Introducción a la búsqueda de empleo en internet – Clase básica: Como realizar su reclamo semanal para el desempleo *Recomendación antes de asistir: Complete el registro básico en iMatchSkills y la conversación de bienvenida con uno de los miembros de nuestro equipo.
URL:https://worksourcerogue.org/event/clases-basicas-de-computacion-basic-computer-spanish-2-2025-11-05/
LOCATION:WorkSource Rogue Valley\, 119 N. Oakdale Ave.\, Medford\, OR 97501\, 119 North Oakdale\, Medford\, OR\, 97501\, United States
CATEGORIES:Computer Class,Spanish
END:VEVENT
BEGIN:VEVENT
DTSTART;TZID=UTC:20251107T090000
DTEND;TZID=UTC:20251107T103000
DTSTAMP:20260426T004608
CREATED:20230328T220336Z
LAST-MODIFIED:20241127T235419Z
UID:39607-1762506000-1762511400@worksourcerogue.org
SUMMARY:Basic Computer Class (In Person) Medford
DESCRIPTION:An introduction to computer basics including Microsoft Windows\, the Internet for Job Search\, managing files\, and iMatchskills Registration help.  For more information call 541-734-7533 or click the “Happy to help” button below.
URL:https://worksourcerogue.org/event/basic-computer-class-josephine-county-2025-11-07/
LOCATION:WorkSource Rogue Valley\, 119 N. Oakdale Ave.\, Medford\, OR 97501\, 119 North Oakdale\, Medford\, OR\, 97501\, United States
CATEGORIES:Computer Class
END:VEVENT
BEGIN:VEVENT
DTSTART;TZID=UTC:20251112T100000
DTEND;TZID=UTC:20251112T110000
DTSTAMP:20260426T004608
CREATED:20231002T205832Z
LAST-MODIFIED:20250929T181124Z
UID:39611-1762941600-1762945200@worksourcerogue.org
SUMMARY:Taller de Computación Básica en Español (En persona) Medford
DESCRIPTION:Un tema diferente se ofrece cada viernes: – Clase básica: Introducción a la computación básica – Clase básica: Registro de iMatchSkills – Clase básica: Introducción a la búsqueda de empleo en internet – Clase básica: Como realizar su reclamo semanal para el desempleo *Recomendación antes de asistir: Complete el registro básico en iMatchSkills y la conversación de bienvenida con uno de los miembros de nuestro equipo.
URL:https://worksourcerogue.org/event/clases-basicas-de-computacion-basic-computer-spanish-2-2025-11-12/
LOCATION:WorkSource Rogue Valley\, 119 N. Oakdale Ave.\, Medford\, OR 97501\, 119 North Oakdale\, Medford\, OR\, 97501\, United States
CATEGORIES:Computer Class,Spanish
END:VEVENT
BEGIN:VEVENT
DTSTART;TZID=UTC:20251114T090000
DTEND;TZID=UTC:20251114T103000
DTSTAMP:20260426T004608
CREATED:20230328T220336Z
LAST-MODIFIED:20241127T235420Z
UID:39613-1763110800-1763116200@worksourcerogue.org
SUMMARY:Basic Computer Class (In Person) Medford
DESCRIPTION:An introduction to computer basics including Microsoft Windows\, the Internet for Job Search\, managing files\, and iMatchskills Registration help.  For more information call 541-734-7533 or click the “Happy to help” button below.
URL:https://worksourcerogue.org/event/basic-computer-class-josephine-county-2025-11-14/
LOCATION:WorkSource Rogue Valley\, 119 N. Oakdale Ave.\, Medford\, OR 97501\, 119 North Oakdale\, Medford\, OR\, 97501\, United States
CATEGORIES:Computer Class
END:VEVENT
END:VCALENDAR