BEGIN:VCALENDAR
VERSION:2.0
PRODID:-//WorkSource Rogue Valley - Support for Job Seekers, Employers, Youth and Childcare - ECPv6.15.20//NONSGML v1.0//EN
CALSCALE:GREGORIAN
METHOD:PUBLISH
X-ORIGINAL-URL:https://worksourcerogue.org
X-WR-CALDESC:Events for WorkSource Rogue Valley - Support for Job Seekers, Employers, Youth and Childcare
REFRESH-INTERVAL;VALUE=DURATION:PT1H
X-Robots-Tag:noindex
X-PUBLISHED-TTL:PT1H
BEGIN:VTIMEZONE
TZID:UTC
BEGIN:STANDARD
TZOFFSETFROM:+0000
TZOFFSETTO:+0000
TZNAME:UTC
DTSTART:20240101T000000
END:STANDARD
END:VTIMEZONE
BEGIN:VEVENT
DTSTART;TZID=UTC:20250910T120000
DTEND;TZID=UTC:20250910T163000
DTSTAMP:20260425T141340
CREATED:20210809T212135Z
LAST-MODIFIED:20241122T201820Z
UID:39392-1757505600-1757521800@worksourcerogue.org
SUMMARY:National Career Readiness Certificate (NCRC) - Josephine County (Wednesday)
DESCRIPTION:The National Career Readiness Certificate (NCRC) provides you with solid proof of your abilities. Over 2600 Oregon employers recognize the NCRC when hiring; for a listing click here. \nIn Josephine County\, testing is scheduled for Wednesdays\,  from 12 noon to 4:30 p.m. with check-in at 11:30 to 11:45 AM. Pre-registration is required. \nSeats are limited.  A photo ID and pre-registration are required.  To sign up for the NCRC in Grants Pass call 541.471.3811 or click the “Happy to help” button below. \nThere are three tests:  Applied Mathematics\, Reading for Information\, and Graphic Literacy; each lasts 55 minutes. For more information\, visit here. \n 
URL:https://worksourcerogue.org/event/national-career-readiness-certificate-ncrc-josephine-county-wednesday-2025-09-10/
LOCATION:WorkSource Rogue Valley – 1569 NE “F” Street\, Grants Pass\, 1569 NE “F” St.\, Grants Pass\, OR\, 97526\, United States
CATEGORIES:Testing
ATTACH;FMTTYPE=image/jpeg:https://worksourcerogue.org/wp-content/uploads/2019/04/qtq80-YK3npQ.jpeg
END:VEVENT
BEGIN:VEVENT
DTSTART;TZID=UTC:20250911T090000
DTEND;TZID=UTC:20250911T130000
DTSTAMP:20260425T141340
CREATED:20210809T211615Z
LAST-MODIFIED:20241231T174340Z
UID:39399-1757581200-1757595600@worksourcerogue.org
SUMMARY:National Career Readiness Certificate (NCRC) - Jackson County (Thursday)
DESCRIPTION:The National Career Readiness Certificate (NCRC) provides you with solid proof of your abilities. Over 2600 Oregon employers recognize the NCRC when hiring; for a listing click here. \nIn Jackson County\, testing is scheduled for Tuesday\, from 12:30 PM to 4:30 PM with check-in at 12 PM to 12:15 PM and Thursday from 9:00 AM to 1:00 PM with check-in at 8:30 AM to 9:00 AM. Pre-registration is required. \nSeats are limited.  A photo ID and pre-registration are required.  Call 541-734-7533 to learn more or to register. \nThere are three tests:  Applied Mathematics\, Reading for Information\, and Graphic Literacy; each lasts 55 minutes. For more information\, visit here. \n 
URL:https://worksourcerogue.org/event/national-career-readiness-certificate-ncrc-jackson-county-thursday-2022-10-04-2024-10-01-2025-09-11/
LOCATION:WorkSource Rogue Valley\, 119 N. Oakdale Ave.\, Medford\, OR 97501\, 119 North Oakdale\, Medford\, OR\, 97501\, United States
CATEGORIES:Testing
ATTACH;FMTTYPE=image/jpeg:https://worksourcerogue.org/wp-content/uploads/2019/04/qtq80-YK3npQ.jpeg
END:VEVENT
END:VCALENDAR